Workbook

Sheet งบทดลอง
A2: ข้อมูล ณ วันที่่ 17/10/2566 12:49 | D2: วันที่พิมพ์ : 17/10/2566 12:49
A4: อ. กุยบุรี | D4: หน้า : 1/1
A6: จ. ประจวบคีรีขันธ์
A8: องค์การบริหารส่วนตำบลกุยเหนือ
A10: งบทดลอง
A12: ปีงบประมาณ 2566
A14: ณ วันที่ 30 กันยายน 2566
A17: รายการ | B17: รหัสบัญชี | C17: งบทดลองก่อนปิดบัญชี | E17: รายการปรับปรุง | G17: ปิดบัญชี | I17: งบทดลองหลังปิดบัญชี
C18: เดบิต | D18: เครดิต | E18: เดบิต | F18: เครดิต | G18: เดบิต | H18: เครดิต | I18: เดบิต | J18: เครดิต
A19: เงินฝากออมทรัพย์ที่สถาบันการเงิน (235-2-14549-6) | B19: 1101030102.001 | C19: 12502056 | D19: 0 | E19: 0 | F19: 0 | G19: 0 | H19: 0 | I19: 12502056 | J19: 0
A20: เงินฝากออมทรัพย์ที่สถาบันการเงิน (235-2-21101-7) | B20: 1101030102.001 | C20: 672787.6 | D20: 0 | E20: 0 | F20: 0 | G20: 0 | H20: 0 | I20: 672787.6 | J20: 0
A21: เงินฝากออมทรัพย์ที่สถาบันการเงิน (723-0-43180-8) | B21: 1101030102.001 | C21: 1438000 | D21: 0 | E21: 0 | F21: 0 | G21: 0 | H21: 0 | I21: 1438000 | J21: 0
A22: เงินฝากออมทรัพย์ที่สถาบันการเงิน (723-1-29291-7) | B22: 1101030102.001 | C22: 31003358 | D22: 0 | E22: 0 | F22: 0 | G22: 0 | H22: 0 | I22: 31003358 | J22: 0
A23: เงินฝากประจํา-ระยะสั้น ไม่เกิน 3 เดือน (235-4-09547-5) | B23: 1101030199.001 | C23: 12373851 | D23: 0 | E23: 0 | F23: 0 | G23: 0 | H23: 0 | I23: 12373851 | J23: 0
A24: เงินให้กู้ยืมระยะสั้น-เงินทุนโครงการเศรษฐกิจชุมชน | B24: 1102030102.001 | C24: 550000 | D24: 0 | E24: 0 | F24: 0 | G24: 0 | H24: 0 | I24: 550000 | J24: 0
A25: รายได้ค้างรับ - หน่วยงานภาครัฐ | B25: 1102050106.001 | C25: 7164.9 | D25: 0 | E25: 27479.52 | F25: 7164.9 | G25: 0 | H25: 0 | I25: 27479.52 | J25: 0
A26: รายได้ค้างรับ - บุคคลภายนอก | B26: 1102050107.001 | C26: 42906.75 | D26: 0 | E26: 58534.9 | F26: 42906.75 | G26: 0 | H26: 0 | I26: 58534.9 | J26: 0
A27: วัสดุคงคลัง | B27: 1105010105.001 | C27: 473828 | D27: 0 | E27: 216864 | F27: 473828 | G27: 0 | H27: 0 | I27: 216864 | J27: 0
A28: ค่าใช้จ่ายจ่ายล่วงหน้า | B28: 1106010103.001 | C28: 0 | D28: 0 | E28: 4539.27 | F28: 0 | G28: 0 | H28: 0 | I28: 4539.27 | J28: 0
A29: ที่ดิน | B29: 1204010101.001 | C29: 868000 | D29: 0 | E29: 0 | F29: 0 | G29: 0 | H29: 0 | I29: 868000 | J29: 0
A30: อาคารสำนักงาน | B30: 1205020101.001 | C30: 1518000 | D30: 0 | E30: 0 | F30: 0 | G30: 0 | H30: 0 | I30: 1518000 | J30: 0
... A142: ค่าใช้จ่ายอื่น | B142: 5212010199.999 | C142: 239820 | D142: 0 | E142: 0 | F142: 0 | G142: 0 | H142: 239820 | I142: 0 | J142: 0
A143: รวม | C143: 1.6005129e+08 | D143: 1.6005129e+08 | E143: 1079884.8 | F143: 1079884.8 | G143: 36093014 | H143: 36093014 | I143: 1.2980039e+08 | J143: 1.2980039e+08

Sheet หนี้สิน
A1: องค์การบริหารส่วนตำบลกุยเหนือ
A3: งบทดลอง
A5: ปีงบประมาณ 2566
A7: ณ วันที่ 30 กันยายน 2566
A10: รายการ | B10: รหัสบัญชี | C10: งบทดลองก่อนปิดบัญชี | E10: รายการปรับปรุง | G10: ปิดบัญชี | I10: งบทดลองหลังปิดบัญชี
A11: ค่าสาธารณูปโภคค้างจ่าย | B11: 2102040101.001 | C11: 0 | D11: 2305 | E11: 2305 | F11: 2312.43 | G11: 0 | H11: 0 | I11: 0 | J11: 2312.43
A12: รายได้เงินอุดหนุนรับล่วงหน้า | B12: 2103010102.001 | C12: 0 | D12: 1438000 | E12: 0 | F12: 0 | G12: 0 | H12: 0 | I12: 0 | J12: 1438000
A13: เงินประกันสัญญา - ระยะสั้น | B13: 2112010101.001 | C13: 0 | D13: 3615 | E13: 0 | F13: 243950 | G13: 0 | H13: 0 | I13: 0 | J13: 247565
A14: เงินรับฝากเงินทุนโครงการเศรษฐกิจชุมชน - ระยะยาว | B14: 2207020102.001 | C14: 0 | D14: 1222787.6 | E14: 0 | F14: 0 | G14: 0 | H14: 0 | I14: 0 | J14: 1222787.6
A15: เงินประกันสัญญา - ระยะยาว | B15: 2208010101.001 | C15: 0 | D15: 1430475 | E15: 243950 | F15: 0 | G15: 0 | H15: 0 | I15: 0 | J15: 1186525
J16: =SUM(J11:J15) -> 4097190

Sheet กันเงิน
A1: รายงานการกันเงินงบประมาณที่ไม่ได้ก่อหนี้ผูกพันและที่ก่อหนี้แล้ว แต่ยังไม่ได้ตรวจรับเพื่อตั้งหนี้
A3: องค์การบริหารส่วนตำบลกุยเหนือ
A5: ณ วันที่ 30 กันยายน 2566
A8: งาน | B8: ประเภทรายจ่าย | D8: โครงการ | E8: จำนวนเงิน ค้างจ่าย | F8: บันทึกตรวจรับ เพื่อตั้งหนี้ | H8: คงเหลือ ที่ยังไม่ตั้งหนี้
A9: งบกลาง | B9: เงินสำรองจ่าย | F9: 0 | H9: 116000
A10: งานบริหารทั่วไป | B10: รายจ่ายเพื่อให้ได้มาซึ่งบริการ | D10: รายจ่ายเพื่อให้ได้มาซึ่งบริการ | F10: 0 | H10: 600
A11: งานบริหารงานคลัง | B11: รายจ่ายเพื่อให้ได้มาซึ่งบริการ | D11: รายจ่ายเพื่อให้ได้มาซึ่งบริการ | F11: 0 | H11: 9000
A12: งานบริหารงานคลัง | B12: รายจ่ายเกี่ยวเนื่องกับการปฏิบัติราชการที่ไม่เข้าลักษณะรายจ่ายงบรายจ่ายอื่น ๆ | D12: โครงการจัดทำแผนที่ภาษีและทะเบียนทรัพย์สินองค์การบริหารส่วนตำบลกุยเหนือ | F12: 0 | H12: 350000
A13: งานบริหารงานคลัง | B13: ครุภัณฑ์ยานพาหนะและขนส่ง | D13: รถบรรทุก (ดีเซล) | F13: 0 | H13: 850000
A14: งานบริหารทั่วไปเกี่ยวกับเคหะและชุมชน | B14: ค่าก่อสร้างอาคาร หรือสิ่งปลูกสร้างต่าง ๆ | D14: ก่อสร้างอาคารที่ทำการองค์การบริหารส่วนตำบลกุยเหนือ | F14: 0 | H14: 5458000
A15: งานบริหารทั่วไปเกี่ยวกับเคหะและชุมชน | B15: ค่าก่อสร้างอาคาร หรือสิ่งปลูกสร้างต่าง ๆ | D15: โครงการก่อสร้างอาคารที่ทำการองค์การบริหารส่วนตำบลกุยเหนือ | F15: 0 | H15: 1580000
A16: งานสวนสาธารณะ | B16: ครุภัณฑ์การเกษตร | D16: จัดซื้อรถฟาร์มแทรกเตอร์ล้อยาง ชนิดขับเคลื่อน 4 ล้อ | F16: 0 | H16: 1460000
A17: งานก่อสร้าง | B17: วัสดุก่อสร้าง | F17: 0 | H17: 400
A18: งานก่อสร้าง | B18: ค่าก่อสร้างอาคาร หรือสิ่งปลูกสร้างต่าง ๆ | D18: โครงการก่อสร้างทางเท้าพร้อมคันหิน คสล. และระบบประปาสนามที่ทำการ อบต.กุยเหนือ หมู่ที่ 7 | F18: 0 | H18: 271000
A19: งานก่อสร้าง | B19: ค่าก่อสร้างอาคาร หรือสิ่งปลูกสร้างต่าง ๆ | D19: โครงการก่อสร้างประตูทางเข้า ที่ทำการ อบต.กุยเหนือ หมู่ที่ 7 | F19: 0 | H19: 257000
A20: งานก่อสร้าง | B20: ค่าก่อสร้างอาคาร หรือสิ่งปลูกสร้างต่าง ๆ | D20: โครงการก่อสร้างป้อมยาม ที่ทำการ อบต.กุยเหนือ หมู่ที่ 7 | F20: 0 | H20: 353000
A21: งานก่อสร้าง | B21: ค่าก่อสร้างอาคาร หรือสิ่งปลูกสร้างต่าง ๆ | D21: โครงการก่อสร้างป้ายชื่อที่ทำการ อบต.กุยเหนือ หมู่ที่ 7 | F21: 0 | H21: 230000
A22: งานก่อสร้าง | B22: ค่าก่อสร้างอาคาร หรือสิ่งปลูกสร้างต่าง ๆ | D22: โครงการก่อสร้างรั้วด้านข้างและกำแพงกันดิน ที่ทำการ อบต.กุยเหนือ (ระยะที่ 1) หมู่ที่ 7 | F22: 0 | H22: 458000
A23: งานก่อสร้าง | B23: ค่าก่อสร้างอาคาร หรือสิ่งปลูกสร้างต่าง ๆ | D23: โครงการก่อสร้างรั้วด้านหน้า ที่ทำการ อบต.กุยเหนือ(ช่วงที่ 1) หมู่ที่ 7 | F23: 0 | H23: 486000
A24: งานก่อสร้าง | B24: ค่าก่อสร้างอาคาร หรือสิ่งปลูกสร้างต่าง ๆ | D24: โครงการก่อสร้างรั้วด้านหน้าที่ทำการ อบต.กุยเหนือ(ช่วงที่ 2) หมู่ที่ 7 | F24: 0 | H24: 549000
A25: งานก่อสร้าง | B25: ค่าก่อสร้างอาคาร หรือสิ่งปลูกสร้างต่าง ๆ | D25: โครงการก่อสร้างเสาธง ที่ทำการ อบต.กุยเหนือ หมู่ที่ 7 | F25: 0 | H25: 73000
A26: งานก่อสร้าง | B26: ค่าก่อสร้างอาคาร หรือสิ่งปลูกสร้างต่าง ๆ | D26: โครงการก่อสร้างอาคารพักอาศัยและที่จอดรถดับเพลิง ที่ทำการ อบต.กุยเหนือ หมู่ที่ 7 | F26: 0 | H26: 1540000
A27: งานก่อสร้าง | B27: ค่าก่อสร้างสิ่งสาธารณูปการ | D27: โครงการก่อสร้างถนน-ลาน คสล. และอาคารจอดรถที่ทำการ อบต.กุยเหนือ หมู่ที่ 7 | F27: 0 | H27: 1364000
A28: งานก่อสร้าง | B28: ค่าก่อสร้างสิ่งสาธารณูปการ | D28: โครงการก่อสร้างถนนและลานจอดรถ คสล. พร้อมวางท่อ คสล. ที่ทำการ อบต.กุยเหนือ หมู่ที่ 7 | F28: 0 | H28: 1283000
A29: งานก่อสร้าง | B29: ค่าก่อสร้างสิ่งสาธารณูปการ | D29: โครงการก่อสร้างระบบระบายน้ำ ที่ทำการ อบต.กุยเหนือ พร้อมวางท่อคสล. หมู่ที่ 7 | F29: 0 | H29: 301000
... A31: งานก่อสร้าง | B31: ค่าก่อสร้างสิ่งสาธารณูปการ | D31: โครงการวางท่อ ระบายน้ำ ค.ส.ล. สายกลางดง ซ.1 หมู่ที่ 1 | F31: 0 | H31: 417000
D32: รวม | F32: 0 | H32: 18144000

Sheet จ่ายขาดสะสม
F1: รายงานรายละเอียดเงินสะสมที่จะดำเนินการในปีต่อไป
F4: ปีงบประมาณ 2567
A6: ปีงบ ประมาณ | B6: งาน | D6: ประเภทรายจ่าย | E6: โครงการ | G6: จำนวนเงิน ที่ได้รับอนุมัติ | H6: ก่อหนี้ผูกพัน | I6: เบิกจ่ายแล้ว | J6: คงเหลือ ยังไม่เบิกจ่าย | K6: คงเหลือ ยังไม่ได้ก่อหนี้ | M6: วงเงินที่บันทึก ดำเนินการต่อแล้ว | P6: วงเงินที่สามารถ ดำเนินการต่อได้
A7: 2565 | B7: งานก่อสร้าง | D7: ค่าก่อสร้างสิ่งสาธารณูปการ | E7: โครงการก่อสร้างถนน คสล. สายเขาขวาง ซ. 1 หมู่ที่ 9 | G7: 543000 | H7: 543000 | I7: 0 | J7: 543000 | K7: 0 | M7: 0 | P7: 0
A8: 2565 | B8: งานก่อสร้าง | D8: ค่าก่อสร้างสิ่งสาธารณูปการ | E8: โครงการก่อสร้างถนน คสล. สายดงเกตุ ซ. 3 (ช่วงที่ 1) หมู่ที่ 9 | G8: 333000 | H8: 333000 | I8: 0 | J8: 333000 | K8: 0 | M8: 0 | P8: 0
A9: 2565 | B9: งานก่อสร้าง | D9: ค่าก่อสร้างสิ่งสาธารณูปการ | E9: โครงการก่อสร้างถนน คสล. สายดงเกตุ ซ. 3 (ช่วงที่ 2) หมู่ที่ 9 | G9: 224000 | H9: 224000 | I9: 0 | J9: 224000 | K9: 0 | M9: 0 | P9: 0
A10: 2565 | B10: งานก่อสร้าง | D10: ค่าก่อสร้างสิ่งสาธารณูปการ | E10: โครงการก่อสร้างถนน คสล. สายบ้านนายแรม หมู่ที่ 4 | G10: 153000 | H10: 153000 | I10: 0 | J10: 153000 | K10: 0 | M10: 0 | P10: 0
A11: 2565 | B11: งานก่อสร้าง | D11: ค่าก่อสร้างสิ่งสาธารณูปการ | E11: โครงการก่อสร้างถนน คสล. สายบ้านยายน้อย หมู่ที่ 11 | G11: 169000 | H11: 169000 | I11: 0 | J11: 169000 | K11: 0 | M11: 0 | P11: 0
A12: 2565 | B12: งานก่อสร้าง | D12: ค่าก่อสร้างสิ่งสาธารณูปการ | E12: โครงการก่อสร้างถนน คสล. สายพัฒนา - คลองโบสถ์ หมู่ที่ 4 | G12: 940000 | H12: 940000 | I12: 0 | J12: 940000 | K12: 0 | M12: 0 | P12: 0
A13: 2565 | B13: งานก่อสร้าง | D13: ค่าก่อสร้างสิ่งสาธารณูปการ | E13: โครงการก่อสร้างถนน คสล. สายหนองตลาด ซ. 2 หมู่ที่ 8 | G13: 411000 | H13: 411000 | I13: 0 | J13: 411000 | K13: 0 | M13: 0 | P13: 0
A14: 2565 | B14: งานก่อสร้าง | D14: ค่าก่อสร้างสิ่งสาธารณูปการ | E14: โครงการก่อสร้างถนน คสล. สายหนองตลาด ซ. 2 (ช่วงที่2) หมู่ที่ 8 | G14: 597000 | H14: 597000 | I14: 0 | J14: 597000 | K14: 0 | M14: 0 | P14: 0
A15: 2565 | B15: งานก่อสร้าง | D15: ค่าก่อสร้างสิ่งสาธารณูปการ | E15: โครงการก่อสร้างถนน คสล. สายหนองเตาปูน ซ. 1 หมู่ที่ 7 | G15: 286500 | H15: 286500 | I15: 0 | J15: 286500 | K15: 0 | M15: 0 | P15: 0
A16: 2565 | B16: งานก่อสร้าง | D16: ค่าก่อสร้างสิ่งสาธารณูปการ | E16: โครงการก่อสร้างถนน คสล. สายหนองเตาปูน ซ. 6 หมู่ที่ 7 | G16: 123000 | H16: 123000 | I16: 0 | J16: 123000 | K16: 0 | M16: 0 | P16: 0
A17: 2565 | B17: งานก่อสร้าง | D17: ค่าก่อสร้างสิ่งสาธารณูปการ | E17: โครงการก่อสร้างถนน คสล. สายหนองเตาปูน ซ. 7 หมู่ที่ 7 | G17: 656000 | H17: 656000 | I17: 0 | J17: 656000 | K17: 0 | M17: 0 | P17: 0
A18: 2565 | B18: งานก่อสร้าง | D18: ค่าก่อสร้างสิ่งสาธารณูปการ | E18: โครงการก่อสร้างถนน คสล. สายหนองโสน หมู่ที่ 11 | G18: 944000 | H18: 944000 | I18: 0 | J18: 944000 | K18: 0 | M18: 0 | P18: 0
A19: 2565 | B19: งานก่อสร้าง | D19: ค่าก่อสร้างสิ่งสาธารณูปการ | E19: โครงการปรับปรุงถนนเสริมผิวจราจร AC สายหนองตลาด ซ. 3 หมู่ที่ 8 | G19: 425000 | H19: 425000 | I19: 0 | J19: 425000 | K19: 0 | M19: 0 | P19: 0
A20: รวม | G20: 5804500 | H20: 5804500 | I20: 0 | J20: 5804500 | K20: 0 | M20: 0 | P20: 0

Sheet สำรองสะสมตามระเบียบฯ
A1: สำรองจ่ายตามระเบียบฯ
A2: ข้อ 89 องค์กรปกครองส่วนท้องถิ่นอาจใช้จ่ายเงินสะสมได้ โดยได้รับอนุมัติ_x000D_จากสภาท้องถิ่นภายใต้เงื่อนไข ดังต่อไปนี้_x000D_ (1) ให้กระทำได้เฉพาะกิจการซึ่งอยู่ในอำนาจหน้าที่ขององค์กรปกครอง_x000D_ส่วนท้องถิ่น ซึ่งเกี่ยวกับด้านการบริการชุมชนและสังคม หรือกิจการที่เป็นการเพิ่มพูนรายได้ขององค์กรปกครองส่วนท้องถิ่น หรือกิจการที่จัดทำเพื่อบำบัดความเดือดร้อนของประชาชน_x000D_ทั้งนี้ ต้องเป็นไปตามแผนพัฒนาขององค์กรปกครองส่วนท้องถิ่น หรือตามที่กฎหมายกำหนด_x000D_ (2) ได้ส่งเงินสมทบกองทุนส่งเสริมกิจการขององค์กรปกครองส่วนท้องถิ่น_x000D_แต่ละประเภทตามระเบียบแล้ว_x000D_ (3) เมื่อได้รับอนุมติให้ใช้จ่ายเงินสะสมแล้ว องค์กรปกครองส่วนท้องถิ่นต้อง_x000D_ดำเนินการก่อหนี้ผูกพันให้เสร็จสิ้นภายในระยะเวลาไม่เกินหนึ่งปีถัดไป หากไม่ดำเนินการ_x000D_ภายในระยะเวลาที่กำหนด ให้การใช้จ่ายเงินละสมนั้นเป็นอันพับไป _x000D_ทั้งนี้ ให้อง์กรปกครองส่วนท้องถิ่นมียอดเงินสะสมคงเหลือเพียงพอที่จะจ่าย_x000D_ค่าใช้จ่ายประจำและกรณีฉุกเฉินที่มีสาธารณภัยเกิดขึ้น โดยการใช้จ่ายเงินสะสมให้คำนึงถึง_x000D_ฐานะการคลัง และเสถียรภาพในระยะยาว
A3: 1.ค่าใช้จ่ายด้านบุคลากรไม่น้อยกว่า 3 เดือน
A4: รายการ | B4: ก.ค. | C4: ส.ค. | D4: ก.ย. | E4: รวมจำนวนเงิน
A5: เงินเดือนฝ่ายการเมือง | B5: 202160 | C5: 202160 | D5: 202160 | E5: =SUM(B5:D5) -> 606480
A6: เงินเดือนฝ่ายประจำ | B6: 710225 | C6: =710225+18000 -> 728225 | D6: =710225+18000 -> 728225 | E6: =SUM(B6:D6) -> 2166675
A7: รวม | E7: =SUM(E5:E6) -> 2773155
A8: 2.ร้อยละสิบของงบประมาณรายจ่ายประจำปี
A9: รายการ | E9: รวมจำนวนเงิน
A10: งบประมาณรายจ่ายประจำปีงบประมาณ 2566 | E10: 34415000
A11: ร้อยละสิบของงบประมาณรายจ่ายประจำปีงบประมาณ 2566 | E11: =SUM(E10*10/100) -> 3441500
A12: รวม | E12: =SUM(E11) -> 3441500
A14: รวมสำรองจ่ายตามระเบียบฯ
A15: 1.ค่าใช้จ่ายด้านบุคลากรไม่น้อยกว่า 3 เดือน | D15: =SUM(E7) -> 2773155
A16: 2.ร้อยละสิบของงบประมาณรายจ่ายประจำปี | D16: =SUM(E12) -> 3441500
B17: รวม | D17: =SUM(D15:D16) -> 6214655

Sheet พิสูจน์ยอดสะสม1
A1: รายงานพิสูจน์ยอดเงินสะสมที่สามารถนำไปใช้ได้ตามรายงานการเงิน
A2: องค์การบริหารส่วนตำบลกุยเหนือ
A3: ณ วันที่ 30 กันยายน 2566
A5: ยอดเงินสด เงินฝากธนาคาร และเงินฝากกระทรวงการคลัง ณ วันที่ 30 กันยายน 2566 | K5: =SUM(งบทดลอง!I19:I23) -> 57990052
A6: หัก | C6: หนี้สิน ณ วันที่ 30 กันยายน 2566 * | J6: =SUM(-หนี้สิน!J16) -> -4097190
C7: เงินทุนสำรองเงินสะสม ณ วันที่ 30 กันยายน 2566 | J7: =SUM(-งบทดลอง!J59) -> -16826756 | K7: =SUM(J6:J7) -> -20923946
A8: บวก | C8: เงินกู้ระยะยาว | K8: 0
A9: คงเหลือเงินสะสมตามบัญชีเงินฝากธนาคาร ณ วันที่ 30 กันยายน 2566 | K9: =SUM(K5:K8) -> 37066106
A10: หัก | C10: รายการกันเงินและขยายเวลาเบิกจ่ายเงินที่ไม่ได้ก่อหนี้ผูกพันและที่ก่อหนี้ผูกพันแล้ว
C11: แต่ยังไม่ได้บันทึกบัญชีเป็นหนี้สิน ** | J11: -18144000
C12: เงินสะสมที่อนุมัติแล้ว ทั้งที่ไม่ได้ก่อหนี้ผูกพันและที่ก่อหนี้ผูกพันแล้ว | J12: =SUM(-จ่ายขาดสะสม!J20) -> -5804500
C13: แต่ยังไม่ได้บันทึกบัญชีเป็นหนี้สิน | K13: =SUM(J11:J12) -> -23948500
C14: รายการที่มีข้อผูกพันตามสัญญาจะซื้อจะขายที่ดิน | K14: 0
A15: คงเหลือเงินสะสมตามบัญชีเงินฝากธนาคารที่นำไปใช้ได้ ณ วันที่ 30 กันยายน 2566 | K15: =SUM(K9:K14) -> 13117606 | M15: 10032898 | N15: ยอดยกมา
M16: =1817571.38*85/100 -> 1544935.7 | N16: 0.85 | P16: 1817571.4 | Q16: สูง/(ต่ำ)
M17: 21869 | N17: ปรับปรุงระหว่างปี
M18: =SUM(M15:M16) -> 11577834
C19: ลงชื่อ | E19: ผู้จัดทำ | H19: ลงชื่อ | K19: ผู้ตรวจสอบ | M19: =SUM(K15-M18) -> 1539772.2
D20: ( นางสาววัลวิภา ชูแก้ว ) | I20: ( นางอาภรณ์ สังข์ศิริ )
C21: นักวิชาการเงินและบัญชีชำนาญการ | I21: ผู้อำนวยการกองคลัง

Sheet เงินสะสมระหว่างปี
A1: รายงานพิสูจน์ยอดเงินสะสมที่สามารถนำไปใช้ได้ตามรายงานการเงิน (ระหว่างปี)
A2: องค์การบริหารส่วนตำบลกุยเหนือ
A3: ณ วันที่ 30 กันยายน 2566
A5: เงินสะสมตามบัญชีเงินฝากธนาคารที่นำไปใช้ได้ ณ วันที่ 30 กันยายน 2566 | M5: =SUM(พิสูจน์ยอดสะสม1!K15) -> 13117606 | O5: (1)
A6: หัก | B6: สำรองตามระเบียบฯ *** | M6: =SUM(-สำรองสะสมตามระเบียบฯ!D17) -> -6214655
A7: คงเหลือเงินสะสมตามบัญชีเงินฝากธนาคารที่นำไปใช้ได้หลังหักสำรองตามระเบียบ | M7: =SUM(M5:N6) -> 6902951
A8: หัก | B8: เงินสะสมที่ได้รับอนุมัติแล้วในปีปัจจุบัน | I8: 0
B9: ถอนคืนเงินรายรับข้ามปีงบประมาณ | I9: 0 | M9: 0
A10: บวก | B10: เงินสะสมที่เหลือจากการอนุมัติหลังจากก่อหนี้ผูกพันแล้ว | I10: 0
B11: รับคืนเงินรายจ่าย/รับรายได้ข้ามปีงบประมาณตกเป็นเงินสะสม | I11: 0 | M11: 0
A12: คงเหลือเงินสะสมตามบัญชีเงินฝากธนาคารที่นำไปใช้ได้ ณ วันที่ 30 กันยายน 2566 | M12: =SUM(M7) -> 6902951
A14: หมายเหตุ * บัญชีหนี้สินทุกบัญชียกเว้นบัญชี ดังนี้
A15: 1. รายได้ตามสัญญาเช่าการเงินรอการรับรู้ - ระยะสั้น
A16: 2. รายได้รอการรับรู้ - ระยะสั้น
A17: 3. รายได้รอการรับรู้ - ระยะยาว
A18: 4. เงินกู้ - ระยะสั้น
A19: 5. ส่วนของเงินกู้ระยะยาวที่ถึงกำหนดชำระภายใน 1 ปี
A20: 6. เงินกู้ - ระยะยาว
A21: 7. ค่าใช้จ่ายค้างจ่ายที่ใช้งบประมาณปีถัดไปในการชำระหนี้ เช่น ค่าไฟฟ้า ค่าน้ำประปา ค่าโทรศัพย์ เดือน ส.ค. - ก.ย. เป็นต้น
A22: ** รายการกันเงินและขยายเวลาเบิกจ่าย เฉพาะแหล่งเงินงบประมาณ
A23: การบันทึกบัญชีเป็นหนี้สิน หมายถึง การรับรู้ภาระหนี้สิน เช่น การตั้งหนี้ การตั้งค่าใช้จ่ายค้างจ่าย เป็นต้น
A24: *** สำรองตามระเบียบ ฯ หมายถึง สำรองตามระเบียบกระทรวงมหาดไทยว่าด้วยการรับเงิน การเบิกจ่ายเงิน การฝากเงิน
A25: การเก็บรักษาเงิน และการตรวจเงินขององค์กรปกครองส่วนท้องถิ่น พ.ศ. 2547 และที่แก้ไขเพิ่มเติม
... A27: (1) หมายถึง เงินสะสมตามบัญชีเงินฝากธนาคารที่นำไปใช้ได้ ณ วันที่ 30 กันยายน 2566
B30: (ลงชื่อ) | C30: ................................................. | D30: ผู้จัดทำ | H30: (ลงชื่อ) | J30: ................................................. | N30: ผู้ตรวจสอบ
B31: ( | C31: นางสาววัลวิภา ชูแก้ว | D31: ) | H31: ( | J31: นางอาภรณ์ สังข์ศิริ | N31: )
B32: นักวิชาการเงินและบัญชีชำนาญการ | J32: ผู้อำนวยการกองคลัง

Sheet Sheet5
A1: รายงานพิสูจน์ยอดเงินสะสมที่สามารถนำไปใช้ได้ตามรายงานการเงิน
A3: ยอดเงินสด เงินฝากธนาคาร และเงินฝากกระทรวงการคลัง ณ วันที่ 30 กันยายน 2566 | J3: =SUM(งบทดลอง!I19:I23) -> 57990052
A4: หัก หนี้สิน ณ วันที่ 30 กันยายน 2566 | H4: =SUM(-หนี้สิน!J16) -> -4097190
A5: ยกเว้น | B5: 1. รายได้ตามสัญญาเช่าการเงินรอการรับรู้ - ระยะสั้น | H5: 0
B6: 2. รายได้รอการรับรู้ - ระยะสั้น | H6: 0
B7: 3. รายได้รอการรับรู้ - ระยะยาว | H7: 0
B8: 4. เงินกู้ - ระยะสั้น | H8: 0
B9: 5. ส่วนของเงินกู้ระยะยาวที่ถึงกำหนดชำระภายใน 1 ปี | H9: 0
B10: 6. เงินกู้ - ระยะยาว | H10: 0
B11: 7. ค่าใช้จ่ายค้างจ่ายที่ใช้งบประมาณปีถัดไปในการชำระหนี้ | H11: 0
B12: 8. หนี้สินที่ตั้งหนี้จากแหล่งเงินอุดหนุนระบุวัตถุประสงค์/เฉพาะกิจ | H12: 0 | I12: =SUM(H4:H12) -> -4097190
A13: เงินทุนสำรองเงินสะสม ณ วันที่ 30 กันยายน 2566 | I13: =SUM(-งบทดลอง!J59) -> -16826756 | J13: =SUM(I12:I13) -> -20923946
A14: คงเหลือเงินสะสมตามบัญชีเงินฝากธนาคาร ณ วันที่ 30 กันยายน 2566 | J14: =SUM(J3:J13) -> 37066106
A15: หัก รายการกันเงินและขยายเวลาเบิกจ่ายเงินที่ไม่ได้ก่อหนี้ผูกพัน | H15: =SUM(-กันเงิน!H32) -> -18144000
A16: และที่ก่อหนี้ผูกพันแล้วที่ไม่ตรวจรับตั้งหนี้
B17: ยกเว้น ค่าใช้จ่ายค้างจ่ายเดือนกันยายนที่กันเงินรายจ่าย | H17: 0 | I17: =SUM(H15:H17) -> -18144000
B18: แบบก่อหนี้ผูกพันแล้วยังไม่ตรวจรับตั้งหนี้
A19: เงินสะสมที่อนุมัติแล้ว ทั้งที่ไม่ได้ก่อหนี้ผูกพันและที่ก่อหนี้ผูกพันแล้ว | I19: =SUM(-จ่ายขาดสะสม!J20) -> -5804500
A20: แต่ยังไม่ได้บันทึกบัญชีเป็นหนี้สิน
A21: รายการที่มีข้อผูกพันตามสัญญาจะซื้อจะขายที่ดิน | I21: 0 | J21: =SUM(I15:I21) -> -23948500
A22: คงเหลือเงินสะสมตามบัญชีเงินฝากธนาคารที่นำไปใช้ได้ ณ วันที่ 30 กันยายน 2566 | J22: =SUM(J14:J21) -> 13117606
C39: .
